BEGIN:VCALENDAR
VERSION:2.0
PRODID:-//Kindergarten Stelingen e.V. - ECPv6.13.2.1//NONSGML v1.0//EN
CALSCALE:GREGORIAN
METHOD:PUBLISH
X-ORIGINAL-URL:https://kindergarten-stelingen-ev.de
X-WR-CALDESC:Veranstaltungen für Kindergarten Stelingen e.V.
REFRESH-INTERVAL;VALUE=DURATION:PT1H
X-Robots-Tag:noindex
X-PUBLISHED-TTL:PT1H
BEGIN:VTIMEZONE
TZID:Europe/Berlin
BEGIN:DAYLIGHT
TZOFFSETFROM:+0100
TZOFFSETTO:+0200
TZNAME:CEST
DTSTART:20260329T010000
END:DAYLIGHT
BEGIN:STANDARD
TZOFFSETFROM:+0200
TZOFFSETTO:+0100
TZNAME:CET
DTSTART:20261025T010000
END:STANDARD
END:VTIMEZONE
BEGIN:VEVENT
DTSTART;TZID=Europe/Berlin:20260407T080000
DTEND;TZID=Europe/Berlin:20260407T140000
DTSTAMP:20260420T172541
CREATED:20260212T085354Z
LAST-MODIFIED:20260212T085624Z
UID:806-1775548800-1775570400@kindergarten-stelingen-ev.de
SUMMARY:Osterfrühstück
DESCRIPTION:Wir frühstücken gemeinsam und schauen nach\, ob der Osterhase vielleicht auch bei uns im Kindergarten etwas versteckt hat.
URL:https://kindergarten-stelingen-ev.de/event/osterfruehstueck/
END:VEVENT
BEGIN:VEVENT
DTSTART;TZID=Europe/Berlin:20260318T140000
DTEND;TZID=Europe/Berlin:20260318T163000
DTSTAMP:20260420T172541
CREATED:20260212T091034Z
LAST-MODIFIED:20260212T091034Z
UID:819-1773842400-1773851400@kindergarten-stelingen-ev.de
SUMMARY:Gartenaktion
DESCRIPTION:Auch in diesem Jahr möchten wir wieder gemeinsam mit den Eltern unser Außengelände auf Vordermann bringen. \nWir hoffen auf tatkräftige Unterstützung.
URL:https://kindergarten-stelingen-ev.de/event/gartenaktion/
END:VEVENT
BEGIN:VEVENT
DTSTART;TZID=Europe/Berlin:20260312T190000
DTEND;TZID=Europe/Berlin:20260312T210000
DTSTAMP:20260420T172541
CREATED:20260212T085219Z
LAST-MODIFIED:20260212T085219Z
UID:803-1773342000-1773349200@kindergarten-stelingen-ev.de
SUMMARY:Jahreshauptversammlung
DESCRIPTION:
URL:https://kindergarten-stelingen-ev.de/event/jahreshauptversammlung/
END:VEVENT
BEGIN:VEVENT
DTSTART;TZID=Europe/Berlin:20260226T080000
DTEND;TZID=Europe/Berlin:20260311T150000
DTSTAMP:20260420T172541
CREATED:20260226T094134Z
LAST-MODIFIED:20260226T094134Z
UID:908-1772092800-1773241200@kindergarten-stelingen-ev.de
SUMMARY:Smalland Kinderbuchausstellung
DESCRIPTION:
URL:https://kindergarten-stelingen-ev.de/event/smalland-kinderbuchausstellung/
END:VEVENT
BEGIN:VEVENT
DTSTART;TZID=Europe/Berlin:20260213T080000
DTEND;TZID=Europe/Berlin:20260213T140000
DTSTAMP:20260420T172541
CREATED:20260212T085038Z
LAST-MODIFIED:20260212T085038Z
UID:801-1770969600-1770991200@kindergarten-stelingen-ev.de
SUMMARY:Helau und Alaaf! Wir feiern Fasching!
DESCRIPTION:
URL:https://kindergarten-stelingen-ev.de/event/helau-und-alaaf-wir-feiern-fasching/
END:VEVENT
END:VCALENDAR